BEGIN:VCALENDAR
VERSION:2.0
PRODID:-//casaofsantacruz.org//NONSGML kigkonsult.se iCalcreator 2.30.10//
CALSCALE:GREGORIAN
METHOD:PUBLISH
UID:48f24786-de33-40a0-b81a-584490dcf7b0
X-WR-CALDESC:Training will start on Saturday\, October 11th covering sessio
 n 1 and 2 on that day from 9am-4pm at the CASA House\, 813 Freedom Blvd\, 
 Watsonville\, CASA 95076\n\nTuesday (Zoom) 10/14\, 10/21\, 10/28 and 11/4 
 from 6pm-9pm \n\nThursdays (In-person) 10/16\, 10/23\, 10/30 from 6pm-9pm 
 at the County office of Education\, 400 Encinal St\, Santa Cruz\n\nThursda
 y\, November 6th\, will be at the CASA House\, 813 Freedom Blvd\, Watsonvi
 lle\, CA 95076 from 6pm-9pm\n\nCourt observation and Graduation: Tuesday\,
  November 18th from 8am-12pm at the Watsonville Courthouse\, 1 Second St\,
  Watsonville\, CA 95076\n\n*If the in-person training dates don't work on 
 your schedule we do have the option to do the training online through CASA
  University.  Please attend an information session and learn more about ho
 w you can join our online training and in-person training.\n\n\nClass size
  is limited to 30 people\, so sign up today!\n\nThe deadline to apply is O
 ctober 7th\, 2025\n\nPlease contact Clarita Cortes if you have any additio
 nal questions at (831) 761-2956 Ext. 102 or email clarita@casaofsantacruz.
 org\n\n
X-WR-RELCALID:2dec74962e8f5210f7c4501ac918aa00
X-WR-TIMEZONE:America/Los_Angeles
BEGIN:VTIMEZONE
TZID:America/Los_Angeles
BEGIN:STANDARD
TZNAME:PST
DTSTART:20241103T020000
TZOFFSETFROM:-0700
TZOFFSETTO:-0800
RDATE:20251102T020000
RDATE:20261101T020000
END:STANDARD
BEGIN:DAYLIGHT
TZNAME:PDT
DTSTART:20250309T020000
TZOFFSETFROM:-0800
TZOFFSETTO:-0700
RDATE:20260308T020000
RDATE:20270314T020000
END:DAYLIGHT
END:VTIMEZONE
BEGIN:VEVENT
UID:8c95f6a9-8550-4c41-b205-18660a60388b
DTSTAMP:20260424T193256Z
DESCRIPTION:Training will start on Saturday\, October 11th covering session
  1 and 2 on that day from 9am-4pm at the CASA House\, 813 Freedom Blvd\, W
 atsonville\, CASA 95076\n\nTuesday (Zoom) 10/14\, 10/21\, 10/28 and 11/4 f
 rom 6pm-9pm \n\nThursdays (In-person) 10/16\, 10/23\, 10/30 from 6pm-9pm a
 t the County office of Education\, 400 Encinal St\, Santa Cruz\n\nThursday
 \, November 6th\, will be at the CASA House\, 813 Freedom Blvd\, Watsonvil
 le\, CA 95076 from 6pm-9pm\n\nCourt observation and Graduation: Tuesday\, 
 November 18th from 8am-12pm at the Watsonville Courthouse\, 1 Second St\, 
 Watsonville\, CA 95076\n\n*If the in-person training dates don't work on y
 our schedule we do have the option to do the training online through CASA 
 University.  Please attend an information session and learn more about how
  you can join our online training and in-person training.\n\n\nClass size 
 is limited to 30 people\, so sign up today!\n\nThe deadline to apply is Oc
 tober 7th\, 2025\n\nPlease contact Clarita Cortes if you have any addition
 al questions at (831) 761-2956 Ext. 102 or email clarita@casaofsantacruz.o
 rg\n\n
DTSTART;TZID=America/Los_Angeles:20251011T090000
DTEND;TZID=America/Los_Angeles:20251011T160000
LOCATION:813 Freedom Blvd\, Watsonville\, CA 95076 US
SUMMARY:CASA Fall Training
END:VEVENT
END:VCALENDAR
